BEGIN:VCALENDAR
VERSION:2.0
PRODID:-//BSD Racing - ECPv6.8.3//NONSGML v1.0//EN
CALSCALE:GREGORIAN
METHOD:PUBLISH
X-ORIGINAL-URL:https://bsdracing.ca/blog
X-WR-CALDESC:Events for BSD Racing
REFRESH-INTERVAL;VALUE=DURATION:PT1H
X-Robots-Tag:noindex
X-PUBLISHED-TTL:PT1H
BEGIN:VTIMEZONE
TZID:America/Edmonton
BEGIN:DAYLIGHT
TZOFFSETFROM:-0700
TZOFFSETTO:-0600
TZNAME:MDT
DTSTART:20160313T090000
END:DAYLIGHT
BEGIN:STANDARD
TZOFFSETFROM:-0600
TZOFFSETTO:-0700
TZNAME:MST
DTSTART:20161106T080000
END:STANDARD
BEGIN:DAYLIGHT
TZOFFSETFROM:-0700
TZOFFSETTO:-0600
TZNAME:MDT
DTSTART:20170312T090000
END:DAYLIGHT
BEGIN:STANDARD
TZOFFSETFROM:-0600
TZOFFSETTO:-0700
TZNAME:MST
DTSTART:20171105T080000
END:STANDARD
BEGIN:DAYLIGHT
TZOFFSETFROM:-0700
TZOFFSETTO:-0600
TZNAME:MDT
DTSTART:20180311T090000
END:DAYLIGHT
BEGIN:STANDARD
TZOFFSETFROM:-0600
TZOFFSETTO:-0700
TZNAME:MST
DTSTART:20181104T080000
END:STANDARD
TZID:America/Denver
BEGIN:DAYLIGHT
TZOFFSETFROM:-0700
TZOFFSETTO:-0600
TZNAME:MDT
DTSTART:20150308T090000
END:DAYLIGHT
BEGIN:STANDARD
TZOFFSETFROM:-0600
TZOFFSETTO:-0700
TZNAME:MST
DTSTART:20151101T080000
END:STANDARD
BEGIN:DAYLIGHT
TZOFFSETFROM:-0700
TZOFFSETTO:-0600
TZNAME:MDT
DTSTART:20160313T090000
END:DAYLIGHT
BEGIN:STANDARD
TZOFFSETFROM:-0600
TZOFFSETTO:-0700
TZNAME:MST
DTSTART:20161106T080000
END:STANDARD
END:VTIMEZONE
BEGIN:VEVENT
DTSTART;TZID=America/Edmonton:20180317T080000
DTEND;TZID=America/Edmonton:20180318T170000
DTSTAMP:20260423T125028
CREATED:20180426T222646Z
LAST-MODIFIED:20180426T222646Z
UID:2379-1521273600-1521392400@bsdracing.ca
SUMMARY:SCCA Majors Tour Western Conference Rd. 2
DESCRIPTION:Willow Springs International Raceway; Rosamond\, California 
URL:https://bsdracing.ca/blog/event/scca-majors-tour-western-conference-rd-2/
LOCATION:Willow Springs International Raceway\, 3500 75th St W\, Rosamond\, CA\, 93560\, United States
END:VEVENT
BEGIN:VEVENT
DTSTART;TZID=America/Edmonton:20180224T080000
DTEND;TZID=America/Edmonton:20180225T170000
DTSTAMP:20260423T125028
CREATED:20171111T004653Z
LAST-MODIFIED:20171111T004653Z
UID:2322-1519459200-1519578000@bsdracing.ca
SUMMARY:Western Canadian Ice Race Championship 2018
DESCRIPTION:Lac La Biche Winter Festival of Speed
URL:https://bsdracing.ca/blog/event/western-canadian-ice-race-championship-2018/
LOCATION:Alberta
END:VEVENT
BEGIN:VEVENT
DTSTART;TZID=America/Edmonton:20180210T080000
DTEND;TZID=America/Edmonton:20180211T170000
DTSTAMP:20260423T125028
CREATED:20171111T003354Z
LAST-MODIFIED:20171111T003354Z
UID:2318-1518249600-1518368400@bsdracing.ca
SUMMARY:NASCC Ice Race Round 4 and 5 2018
DESCRIPTION:
URL:https://bsdracing.ca/blog/event/nascc-ice-race-round-4-and-5-2018/
LOCATION:Roy’s Lake\, Roy's Lake (NASCC Ice Racing)\, Stony Plain\, AB\, T7Z 2A3\, Canada
END:VEVENT
BEGIN:VEVENT
DTSTART;TZID=America/Edmonton:20180127T080000
DTEND;TZID=America/Edmonton:20180128T170000
DTSTAMP:20260423T125028
CREATED:20171111T003434Z
LAST-MODIFIED:20171111T003434Z
UID:2320-1517040000-1517158800@bsdracing.ca
SUMMARY:NASCC Ice Race Round 2 and 3 2018
DESCRIPTION:
URL:https://bsdracing.ca/blog/event/nascc-ice-race-round-2-and-3-2018/
LOCATION:Roy’s Lake\, Roy's Lake (NASCC Ice Racing)\, Stony Plain\, AB\, T7Z 2A3\, Canada
END:VEVENT
BEGIN:VEVENT
DTSTART;TZID=America/Edmonton:20180114T080000
DTEND;TZID=America/Edmonton:20180114T170000
DTSTAMP:20260423T125028
CREATED:20171111T002632Z
LAST-MODIFIED:20171111T002632Z
UID:2314-1515916800-1515949200@bsdracing.ca
SUMMARY:NASCC Ice Race Round 1 2018
DESCRIPTION:Round 1 Ice Racing
URL:https://bsdracing.ca/blog/event/nascc-ice-race-round-1-2018/
LOCATION:Roy’s Lake\, Roy's Lake (NASCC Ice Racing)\, Stony Plain\, AB\, T7Z 2A3\, Canada
END:VEVENT
BEGIN:VEVENT
DTSTART;TZID=America/Edmonton:20180112T080000
DTEND;TZID=America/Edmonton:20180113T170000
DTSTAMP:20260423T125028
CREATED:20171111T002107Z
LAST-MODIFIED:20171111T003139Z
UID:2310-1515744000-1515862800@bsdracing.ca
SUMMARY:NASCC Winter Driving & Ice Race School 2018
DESCRIPTION:Ice Race Packages: \nhttps://www.motorsportreg.com/events/2018-nascc-ice-races-1-5-package-rates-albertas-frozen-lakes-northern-649597 \n 
URL:https://bsdracing.ca/blog/event/nascc-winter-driving-ice-race-school-2018/
LOCATION:Roy’s Lake\, Roy's Lake (NASCC Ice Racing)\, Stony Plain\, AB\, T7Z 2A3\, Canada
END:VEVENT
BEGIN:VEVENT
DTSTART;TZID=America/Edmonton:20171124T080000
DTEND;TZID=America/Edmonton:20171126T170000
DTSTAMP:20260423T125028
CREATED:20171120T041825Z
LAST-MODIFIED:20171120T041825Z
UID:2336-1511510400-1511715600@bsdracing.ca
SUMMARY:ProAutoSport Mondo Track 2017
DESCRIPTION:
URL:https://bsdracing.ca/blog/event/proautosport-mondo-track-2017/
LOCATION:ProAutoSports @ Wild Horse Pass\, 20\,000 S. Maricopa Road\, Chandler\, Chandler\, AZ\, 85226\, United States
END:VEVENT
BEGIN:VEVENT
DTSTART;TZID=America/Edmonton:20170923T080000
DTEND;TZID=America/Edmonton:20170924T170000
DTSTAMP:20260423T125028
CREATED:20161222T035813Z
LAST-MODIFIED:20161222T035813Z
UID:2211-1506153600-1506272400@bsdracing.ca
SUMMARY:NASCC 2017 Race Weekend #4
DESCRIPTION:Race Weekend #4
URL:https://bsdracing.ca/blog/event/nascc-2017-race-weekend-4/
LOCATION:Castrol Raceway\, Highway 19\, Nisku\, Alberta\, T5J2T2\, Canada
END:VEVENT
BEGIN:VEVENT
DTSTART;TZID=America/Edmonton:20170826T080000
DTEND;TZID=America/Edmonton:20170827T170000
DTSTAMP:20260423T125028
CREATED:20161222T034904Z
LAST-MODIFIED:20161222T035517Z
UID:2203-1503734400-1503853200@bsdracing.ca
SUMMARY:NASCC 2017 Race Weekend #3
DESCRIPTION:Race Weekend #3  Double WCMA Points
URL:https://bsdracing.ca/blog/event/nascc-race-weekend-3-2/
LOCATION:Castrol Raceway\, Highway 19\, Nisku\, Alberta\, T5J2T2\, Canada
END:VEVENT
BEGIN:VEVENT
DTSTART;TZID=America/Edmonton:20170722T080000
DTEND;TZID=America/Edmonton:20170723T170000
DTSTAMP:20260423T125028
CREATED:20161222T034811Z
LAST-MODIFIED:20161222T035619Z
UID:2201-1500710400-1500829200@bsdracing.ca
SUMMARY:NASCC 2017 Race Weekend #2
DESCRIPTION:Race Weekend #2
URL:https://bsdracing.ca/blog/event/nascc-2017-race-weekend-2/
LOCATION:Castrol Raceway\, Highway 19\, Nisku\, Alberta\, T5J2T2\, Canada
END:VEVENT
BEGIN:VEVENT
DTSTART;TZID=America/Edmonton:20170625T080000
DTEND;TZID=America/Edmonton:20170625T170000
DTSTAMP:20260423T125028
CREATED:20170423T023316Z
LAST-MODIFIED:20170423T023316Z
UID:2283-1498377600-1498410000@bsdracing.ca
SUMMARY:WCMA 2017 Runoff
DESCRIPTION:*TBA \nOpen event - FIA Competition License Required
URL:https://bsdracing.ca/blog/event/wcma-2017-runoff/
LOCATION:Gimli Motorsports Park\,  Gimli\, MB\, Manitoba\, MB\, Canada
END:VEVENT
BEGIN:VEVENT
DTSTART;TZID=America/Edmonton:20170603T080000
DTEND;TZID=America/Edmonton:20170604T170000
DTSTAMP:20260423T125028
CREATED:20161222T034717Z
LAST-MODIFIED:20161222T035708Z
UID:2199-1496476800-1496595600@bsdracing.ca
SUMMARY:NASCC 2017 Race Weekend #1
DESCRIPTION:NASCC Race Weekend #1
URL:https://bsdracing.ca/blog/event/nascc-2017-race-weekend-1/
LOCATION:Castrol Raceway\, Highway 19\, Nisku\, Alberta\, T5J2T2\, Canada
END:VEVENT
BEGIN:VEVENT
DTSTART;TZID=America/Edmonton:20170506T080000
DTEND;TZID=America/Edmonton:20170507T170000
DTSTAMP:20260423T125028
CREATED:20161222T034630Z
LAST-MODIFIED:20161222T035954Z
UID:2197-1494057600-1494176400@bsdracing.ca
SUMMARY:WCMA 2017 Race License School
DESCRIPTION:Race License School
URL:https://bsdracing.ca/blog/event/wcma-2017-race-license-school/
LOCATION:Castrol Raceway\, Highway 19\, Nisku\, Alberta\, T5J2T2\, Canada
END:VEVENT
BEGIN:VEVENT
DTSTART;TZID=America/Edmonton:20170218T080000
DTEND;TZID=America/Edmonton:20170219T170000
DTSTAMP:20260423T125028
CREATED:20170128T055513Z
LAST-MODIFIED:20170128T055513Z
UID:2232-1487404800-1487523600@bsdracing.ca
SUMMARY:Pro AutoSport Feb 18 -19
DESCRIPTION:Main Track Wild Horse Pass
URL:https://bsdracing.ca/blog/event/pro-autosport-feb-18-19/
LOCATION:ProAutoSports @ Wild Horse Pass\, 20\,000 S. Maricopa Road\, Chandler\, Chandler\, AZ\, 85226\, United States
END:VEVENT
BEGIN:VEVENT
DTSTART;TZID=America/Edmonton:20170114T080000
DTEND;TZID=America/Edmonton:20170115T170000
DTSTAMP:20260423T125028
CREATED:20170128T055627Z
LAST-MODIFIED:20170128T055627Z
UID:2234-1484380800-1484499600@bsdracing.ca
SUMMARY:Pro AutoSport Jan 14-15 2017
DESCRIPTION:Wild Horse Pass - West Track
URL:https://bsdracing.ca/blog/event/pro-autosport-jan-14-15-2017/
LOCATION:ProAutoSports @ Wild Horse Pass\, 20\,000 S. Maricopa Road\, Chandler\, Chandler\, AZ\, 85226\, United States
END:VEVENT
BEGIN:VEVENT
DTSTART;TZID=America/Denver:20161229T080000
DTEND;TZID=America/Denver:20161231T170000
DTSTAMP:20260423T125028
CREATED:20160109T212940Z
LAST-MODIFIED:20160109T212940Z
UID:1494-1482998400-1483203600@bsdracing.ca
SUMMARY:ChumpCar - LAS VEGAS MOTOR SPEEDWAY: 39 Hour
DESCRIPTION:LAS VEGAS MOTOR SPEEDWAY: 39 Hour\, $1600\n"Las Vegas Motor Speedway"
URL:https://bsdracing.ca/blog/event/chumpcar-las-vegas-motor-speedway-39-hour/
LOCATION:LAS VEGAS MOTOR SPEEDWAY\,  7000 N Las Vegas Blvd\,  Las Vegas\, NV\, 89115\, United States
END:VEVENT
BEGIN:VEVENT
DTSTART;TZID=America/Denver:20161119T080000
DTEND;TZID=America/Denver:20161120T170000
DTSTAMP:20260423T125028
CREATED:20160109T212424Z
LAST-MODIFIED:20160109T212424Z
UID:1491-1479542400-1479661200@bsdracing.ca
SUMMARY:ChumpCar - MAZDA RACEWAY LAGUNA SECA: West Region Chumpionship
DESCRIPTION:MAZDA RACEWAY LAGUNA SECA: West Region Chumpionship\, $1200\n"Mazda Raceway Laguna Seca"
URL:https://bsdracing.ca/blog/event/chumpcar-mazda-raceway-laguna-seca-west-region-chumpionship/
LOCATION:MAZDA RACEWAY LAGUNA SECA\, 1021 Monterey Salinas Hwy\, Salinas\, CA\, 93908\, United States
END:VEVENT
BEGIN:VEVENT
DTSTART;TZID=America/Denver:20161029T080000
DTEND;TZID=America/Denver:20161030T170000
DTSTAMP:20260423T125028
CREATED:20160109T212703Z
LAST-MODIFIED:20160109T212703Z
UID:1492-1477728000-1477846800@bsdracing.ca
SUMMARY:Lucky Dog Howl-O-Ween Derby & World Racing League
DESCRIPTION:October 29-30\, 2016       Format: Double 7-Hour Enduro\nLucky Dog Howl-O-Ween Derby & World Racing League\nThe Ridge Motorsports Park\, Shelton\, WA
URL:https://bsdracing.ca/blog/event/lucky-dog-howl-o-ween-derby-world-racing-league/
LOCATION:The Ridge Motorsports Park\, 1060 West Eells Hill Road\, Shelton\, WA\, United States
END:VEVENT
BEGIN:VEVENT
DTSTART;TZID=America/Denver:20161021T080000
DTEND;TZID=America/Denver:20161023T170000
DTSTAMP:20260423T125028
CREATED:20160109T212307Z
LAST-MODIFIED:20160109T212307Z
UID:1490-1477036800-1477242000@bsdracing.ca
SUMMARY:ChumpCar - PORTLAND INTERNATIONAL RACEWAY: Double Enduro and Sprints
DESCRIPTION:PORTLAND INTERNATIONAL RACEWAY: Double Enduro and Sprints\, $1000\n"Portland International Raceway"
URL:https://bsdracing.ca/blog/event/chumpcar-portland-international-raceway-double-enduro-and-sprints/
LOCATION:PORTLAND INTERNATIONAL RACEWAY\, 1940 N Victory Blvd\, Portland\, 97217\, United States
END:VEVENT
BEGIN:VEVENT
DTSTART;TZID=America/Denver:20161001T080000
DTEND;TZID=America/Denver:20161002T170000
DTSTAMP:20260423T125028
CREATED:20160109T005454Z
LAST-MODIFIED:20160919T040447Z
UID:1488-1475308800-1475427600@bsdracing.ca
SUMMARY:NASCC Regional Race #5 2016
DESCRIPTION:October 1 & 2 is tentatively booked for Race 5\, and will be confirmed within a week \nThis event maybe cancelled.
URL:https://bsdracing.ca/blog/event/nascc-regional-race-5-2016/
LOCATION:Castrol Raceway\, Highway 19\, Nisku\, Alberta\, T5J2T2\, Canada
END:VEVENT
BEGIN:VEVENT
DTSTART;TZID=America/Denver:20160924T080000
DTEND;TZID=America/Denver:20160924T170000
DTSTAMP:20260423T125028
CREATED:20160101T011803Z
LAST-MODIFIED:20160919T040415Z
UID:1475-1474704000-1474736400@bsdracing.ca
SUMMARY:NASCC Regional Race #4 and #5 2016
DESCRIPTION:Regional Race #4 - September 24 - 25 \n\nSeptember 24-25 weekend MAY will be a double points race.
URL:https://bsdracing.ca/blog/event/nascc-regional-race-4-2016/
LOCATION:Castrol Raceway\, Highway 19\, Nisku\, Alberta\, T5J2T2\, Canada
END:VEVENT
BEGIN:VEVENT
DTSTART;TZID=America/Denver:20160827T080000
DTEND;TZID=America/Denver:20160828T170000
DTSTAMP:20260423T125028
CREATED:20160101T011704Z
LAST-MODIFIED:20160101T011955Z
UID:1474-1472284800-1472403600@bsdracing.ca
SUMMARY:NASCC Regional Race #3 2016
DESCRIPTION:Regional Race #3 - August 27 - 28
URL:https://bsdracing.ca/blog/event/nascc-regional-race-3-2016/
LOCATION:Castrol Raceway\, Highway 19\, Nisku\, Alberta\, T5J2T2\, Canada
END:VEVENT
BEGIN:VEVENT
DTSTART;TZID=America/Denver:20160730T080000
DTEND;TZID=America/Denver:20160731T170000
DTSTAMP:20260423T125028
CREATED:20160104T050849Z
LAST-MODIFIED:20160104T050849Z
UID:1483-1469865600-1469984400@bsdracing.ca
SUMMARY:Chumpcar - CASTROL RACEWAY
DESCRIPTION:CASTROL RACEWAY: Double 12\, $1000\n"Oil Towns Double Dozen"\nPayment Due By: May 31\, 2016
URL:https://bsdracing.ca/blog/event/chumpcar-castrol-raceway/
LOCATION:Castrol Raceway\, Highway 19\, Nisku\, Alberta\, T5J2T2\, Canada
END:VEVENT
BEGIN:VEVENT
DTSTART;TZID=America/Denver:20160723T080000
DTEND;TZID=America/Denver:20160724T170000
DTSTAMP:20260423T125028
CREATED:20160101T011553Z
LAST-MODIFIED:20160101T012109Z
UID:1472-1469260800-1469379600@bsdracing.ca
SUMMARY:NASCC Regional Race #2 2016
DESCRIPTION:Regional Race #2 - July 23 - 24
URL:https://bsdracing.ca/blog/event/nascc-regional-race-2-2016/
LOCATION:Castrol Raceway\, Highway 19\, Nisku\, Alberta\, T5J2T2\, Canada
END:VEVENT
BEGIN:VEVENT
DTSTART;TZID=America/Edmonton:20160708T080000
DTEND;TZID=America/Edmonton:20160710T170000
DTSTAMP:20260423T125028
CREATED:20160625T082339Z
LAST-MODIFIED:20160625T082339Z
UID:1853-1467964800-1468170000@bsdracing.ca
SUMMARY:WSCC Round 2
DESCRIPTION:WSCC Road Race Weekend 2 \n1.33 mile road race track
URL:https://bsdracing.ca/blog/event/wscc-round-2/
LOCATION:Gimli Motorsports Park\, Gimli Motorsports Park\, MB\, R0C 1B0\, Canada
END:VEVENT
BEGIN:VEVENT
DTSTART;TZID=America/Denver:20160604T080000
DTEND;TZID=America/Denver:20160605T170000
DTSTAMP:20260423T125028
CREATED:20160101T011513Z
LAST-MODIFIED:20160101T012129Z
UID:1471-1465027200-1465146000@bsdracing.ca
SUMMARY:NASCC Regional Race #1 2016
DESCRIPTION:Regional Race #1 - June 4 - 5
URL:https://bsdracing.ca/blog/event/nascc-regional-race-1-2016/
LOCATION:Castrol Raceway\, Highway 19\, Nisku\, Alberta\, T5J2T2\, Canada
END:VEVENT
BEGIN:VEVENT
DTSTART;TZID=America/Denver:20160430T080000
DTEND;TZID=America/Denver:20160501T170000
DTSTAMP:20260423T125028
CREATED:20160101T011351Z
LAST-MODIFIED:20160101T011351Z
UID:1470-1462003200-1462122000@bsdracing.ca
SUMMARY:WCMA Driving School
DESCRIPTION:The following are the tentative 2016 NASCC road race dates. \nDriving School - April 30 - May 1 \n\nVarious TEAM BSD members will be instructing
URL:https://bsdracing.ca/blog/event/wcma-driving-school/
LOCATION:Castrol Raceway\, Highway 19\, Nisku\, Alberta\, T5J2T2\, Canada
END:VEVENT
BEGIN:VEVENT
DTSTART;TZID=America/Denver:20160319T080000
DTEND;TZID=America/Denver:20160320T170000
DTSTAMP:20260423T125028
CREATED:20151221T051334Z
LAST-MODIFIED:20151221T051334Z
UID:1449-1458374400-1458493200@bsdracing.ca
SUMMARY:ProAutoSport Chuckwalla Valley
DESCRIPTION:March 19 -20 2016
URL:https://bsdracing.ca/blog/event/proautosport-chuckwalla-valley/
LOCATION:Chuckwalla Valley Raceway\, 25300 Rice Rd\, Desert Center\, CA\, 92239\, United States
END:VEVENT
BEGIN:VEVENT
DTSTART;TZID=America/Denver:20151229T080000
DTEND;TZID=America/Denver:20151231T170000
DTSTAMP:20260423T125028
CREATED:20151204T201526Z
LAST-MODIFIED:20151204T201526Z
UID:1407-1451376000-1451581200@bsdracing.ca
SUMMARY:LAS VEGAS MOTOR SPEEDWAY: 39 Hour
DESCRIPTION:LAS VEGAS MOTOR SPEEDWAY: 39 Hour\n"Las Vegas Motor Speedway"
URL:https://bsdracing.ca/blog/event/las-vegas-motor-speedway-39-hour/
LOCATION:LAS VEGAS MOTOR SPEEDWAY\,  7000 N Las Vegas Blvd\,  Las Vegas\, NV\, 89115\, United States
END:VEVENT
BEGIN:VEVENT
DTSTART;TZID=America/Denver:20151205T080000
DTEND;TZID=America/Denver:20151206T170000
DTSTAMP:20260423T125028
CREATED:20150816T034320Z
LAST-MODIFIED:20151204T201359Z
UID:1079-1449302400-1449421200@bsdracing.ca
SUMMARY:25 Hours of Thunderhill 2015
DESCRIPTION:25 Hours of Thunderhill 2015
URL:https://bsdracing.ca/blog/event/25-hours-of-thunderhill-2015/
LOCATION:Thunderhill Raceway\, 5250 CA-162\, Willows\, CA\, 95988\, United States
END:VEVENT
END:VCALENDAR