BEGIN:VCALENDAR
VERSION:2.0
PRODID:-//BSD Racing - ECPv6.8.3//NONSGML v1.0//EN
CALSCALE:GREGORIAN
METHOD:PUBLISH
X-ORIGINAL-URL:https://bsdracing.ca/blog
X-WR-CALDESC:Events for BSD Racing
REFRESH-INTERVAL;VALUE=DURATION:PT1H
X-Robots-Tag:noindex
X-PUBLISHED-TTL:PT1H
BEGIN:VTIMEZONE
TZID:America/Denver
BEGIN:DAYLIGHT
TZOFFSETFROM:-0700
TZOFFSETTO:-0600
TZNAME:MDT
DTSTART:20150308T090000
END:DAYLIGHT
BEGIN:STANDARD
TZOFFSETFROM:-0600
TZOFFSETTO:-0700
TZNAME:MST
DTSTART:20151101T080000
END:STANDARD
BEGIN:DAYLIGHT
TZOFFSETFROM:-0700
TZOFFSETTO:-0600
TZNAME:MDT
DTSTART:20160313T090000
END:DAYLIGHT
BEGIN:STANDARD
TZOFFSETFROM:-0600
TZOFFSETTO:-0700
TZNAME:MST
DTSTART:20161106T080000
END:STANDARD
TZID:America/Edmonton
BEGIN:DAYLIGHT
TZOFFSETFROM:-0700
TZOFFSETTO:-0600
TZNAME:MDT
DTSTART:20140309T090000
END:DAYLIGHT
BEGIN:STANDARD
TZOFFSETFROM:-0600
TZOFFSETTO:-0700
TZNAME:MST
DTSTART:20141102T080000
END:STANDARD
BEGIN:DAYLIGHT
TZOFFSETFROM:-0700
TZOFFSETTO:-0600
TZNAME:MDT
DTSTART:20150308T090000
END:DAYLIGHT
BEGIN:STANDARD
TZOFFSETFROM:-0600
TZOFFSETTO:-0700
TZNAME:MST
DTSTART:20151101T080000
END:STANDARD
BEGIN:DAYLIGHT
TZOFFSETFROM:-0700
TZOFFSETTO:-0600
TZNAME:MDT
DTSTART:20160313T090000
END:DAYLIGHT
BEGIN:STANDARD
TZOFFSETFROM:-0600
TZOFFSETTO:-0700
TZNAME:MST
DTSTART:20161106T080000
END:STANDARD
END:VTIMEZONE
BEGIN:VEVENT
DTSTART;TZID=America/Denver:20160924T080000
DTEND;TZID=America/Denver:20160924T170000
DTSTAMP:20260423T154248
CREATED:20160101T011803Z
LAST-MODIFIED:20160919T040415Z
UID:1475-1474704000-1474736400@bsdracing.ca
SUMMARY:NASCC Regional Race #4 and #5 2016
DESCRIPTION:Regional Race #4 - September 24 - 25 \n\nSeptember 24-25 weekend MAY will be a double points race.
URL:https://bsdracing.ca/blog/event/nascc-regional-race-4-2016/
LOCATION:Castrol Raceway\, Highway 19\, Nisku\, Alberta\, T5J2T2\, Canada
END:VEVENT
BEGIN:VEVENT
DTSTART;TZID=America/Denver:20160827T080000
DTEND;TZID=America/Denver:20160828T170000
DTSTAMP:20260423T154248
CREATED:20160101T011704Z
LAST-MODIFIED:20160101T011955Z
UID:1474-1472284800-1472403600@bsdracing.ca
SUMMARY:NASCC Regional Race #3 2016
DESCRIPTION:Regional Race #3 - August 27 - 28
URL:https://bsdracing.ca/blog/event/nascc-regional-race-3-2016/
LOCATION:Castrol Raceway\, Highway 19\, Nisku\, Alberta\, T5J2T2\, Canada
END:VEVENT
BEGIN:VEVENT
DTSTART;TZID=America/Denver:20160730T080000
DTEND;TZID=America/Denver:20160731T170000
DTSTAMP:20260423T154248
CREATED:20160104T050849Z
LAST-MODIFIED:20160104T050849Z
UID:1483-1469865600-1469984400@bsdracing.ca
SUMMARY:Chumpcar - CASTROL RACEWAY
DESCRIPTION:CASTROL RACEWAY: Double 12\, $1000\n"Oil Towns Double Dozen"\nPayment Due By: May 31\, 2016
URL:https://bsdracing.ca/blog/event/chumpcar-castrol-raceway/
LOCATION:Castrol Raceway\, Highway 19\, Nisku\, Alberta\, T5J2T2\, Canada
END:VEVENT
BEGIN:VEVENT
DTSTART;TZID=America/Denver:20160723T080000
DTEND;TZID=America/Denver:20160724T170000
DTSTAMP:20260423T154248
CREATED:20160101T011553Z
LAST-MODIFIED:20160101T012109Z
UID:1472-1469260800-1469379600@bsdracing.ca
SUMMARY:NASCC Regional Race #2 2016
DESCRIPTION:Regional Race #2 - July 23 - 24
URL:https://bsdracing.ca/blog/event/nascc-regional-race-2-2016/
LOCATION:Castrol Raceway\, Highway 19\, Nisku\, Alberta\, T5J2T2\, Canada
END:VEVENT
BEGIN:VEVENT
DTSTART;TZID=America/Edmonton:20160708T080000
DTEND;TZID=America/Edmonton:20160710T170000
DTSTAMP:20260423T154248
CREATED:20160625T082339Z
LAST-MODIFIED:20160625T082339Z
UID:1853-1467964800-1468170000@bsdracing.ca
SUMMARY:WSCC Round 2
DESCRIPTION:WSCC Road Race Weekend 2 \n1.33 mile road race track
URL:https://bsdracing.ca/blog/event/wscc-round-2/
LOCATION:Gimli Motorsports Park\, Gimli Motorsports Park\, MB\, R0C 1B0\, Canada
END:VEVENT
BEGIN:VEVENT
DTSTART;TZID=America/Denver:20160604T080000
DTEND;TZID=America/Denver:20160605T170000
DTSTAMP:20260423T154248
CREATED:20160101T011513Z
LAST-MODIFIED:20160101T012129Z
UID:1471-1465027200-1465146000@bsdracing.ca
SUMMARY:NASCC Regional Race #1 2016
DESCRIPTION:Regional Race #1 - June 4 - 5
URL:https://bsdracing.ca/blog/event/nascc-regional-race-1-2016/
LOCATION:Castrol Raceway\, Highway 19\, Nisku\, Alberta\, T5J2T2\, Canada
END:VEVENT
BEGIN:VEVENT
DTSTART;TZID=America/Denver:20160430T080000
DTEND;TZID=America/Denver:20160501T170000
DTSTAMP:20260423T154248
CREATED:20160101T011351Z
LAST-MODIFIED:20160101T011351Z
UID:1470-1462003200-1462122000@bsdracing.ca
SUMMARY:WCMA Driving School
DESCRIPTION:The following are the tentative 2016 NASCC road race dates. \nDriving School - April 30 - May 1 \n\nVarious TEAM BSD members will be instructing
URL:https://bsdracing.ca/blog/event/wcma-driving-school/
LOCATION:Castrol Raceway\, Highway 19\, Nisku\, Alberta\, T5J2T2\, Canada
END:VEVENT
BEGIN:VEVENT
DTSTART;TZID=America/Denver:20160319T080000
DTEND;TZID=America/Denver:20160320T170000
DTSTAMP:20260423T154248
CREATED:20151221T051334Z
LAST-MODIFIED:20151221T051334Z
UID:1449-1458374400-1458493200@bsdracing.ca
SUMMARY:ProAutoSport Chuckwalla Valley
DESCRIPTION:March 19 -20 2016
URL:https://bsdracing.ca/blog/event/proautosport-chuckwalla-valley/
LOCATION:Chuckwalla Valley Raceway\, 25300 Rice Rd\, Desert Center\, CA\, 92239\, United States
END:VEVENT
BEGIN:VEVENT
DTSTART;TZID=America/Denver:20151229T080000
DTEND;TZID=America/Denver:20151231T170000
DTSTAMP:20260423T154248
CREATED:20151204T201526Z
LAST-MODIFIED:20151204T201526Z
UID:1407-1451376000-1451581200@bsdracing.ca
SUMMARY:LAS VEGAS MOTOR SPEEDWAY: 39 Hour
DESCRIPTION:LAS VEGAS MOTOR SPEEDWAY: 39 Hour\n"Las Vegas Motor Speedway"
URL:https://bsdracing.ca/blog/event/las-vegas-motor-speedway-39-hour/
LOCATION:LAS VEGAS MOTOR SPEEDWAY\,  7000 N Las Vegas Blvd\,  Las Vegas\, NV\, 89115\, United States
END:VEVENT
BEGIN:VEVENT
DTSTART;TZID=America/Denver:20151205T080000
DTEND;TZID=America/Denver:20151206T170000
DTSTAMP:20260423T154248
CREATED:20150816T034320Z
LAST-MODIFIED:20151204T201359Z
UID:1079-1449302400-1449421200@bsdracing.ca
SUMMARY:25 Hours of Thunderhill 2015
DESCRIPTION:25 Hours of Thunderhill 2015
URL:https://bsdracing.ca/blog/event/25-hours-of-thunderhill-2015/
LOCATION:Thunderhill Raceway\, 5250 CA-162\, Willows\, CA\, 95988\, United States
END:VEVENT
BEGIN:VEVENT
DTSTART;TZID=America/Denver:20151205T080000
DTEND;TZID=America/Denver:20151206T170000
DTSTAMP:20260423T154248
CREATED:20150816T034015Z
LAST-MODIFIED:20151204T201638Z
UID:1077-1449302400-1449421200@bsdracing.ca
SUMMARY:Chumpcar West Chumpionship 2015
DESCRIPTION:MAZDA RACEWAY LAGUNA SECA: West Region Chumpionship\, $1200\n "West Region Chumpionship"
URL:https://bsdracing.ca/blog/event/chumpcar-west-chumpionship-2015/
LOCATION:MAZDA RACEWAY LAGUNA SECA\, 1021 Monterey Salinas Hwy\, Salinas\, CA\, 93908\, United States
END:VEVENT
BEGIN:VEVENT
DTSTART;VALUE=DATE:20151127
DTEND;VALUE=DATE:20151201
DTSTAMP:20260423T154248
CREATED:20151126T031335Z
LAST-MODIFIED:20151126T031613Z
UID:1364-1448582400-1448927999@bsdracing.ca
SUMMARY:ProAutoSports @ Wild Horse Pass- Main Track
DESCRIPTION:Thanksgiving Weekend - Wild Horse Pass East
URL:https://bsdracing.ca/blog/event/proautosports-wild-horse-pass-main-track/
LOCATION:ProAutoSports @ Wild Horse Pass\, 20\,000 S. Maricopa Road\, Chandler\, Chandler\, AZ\, 85226\, United States
END:VEVENT
BEGIN:VEVENT
DTSTART;TZID=America/Denver:20151031T080000
DTEND;TZID=America/Denver:20151101T170000
DTSTAMP:20260423T154248
CREATED:20150816T034739Z
LAST-MODIFIED:20151204T201336Z
UID:1081-1446278400-1446397200@bsdracing.ca
SUMMARY:Maybe - Lucky Dog Howl-o-ween Derby 2015
DESCRIPTION:Lucky Dog Howl-o-ween Derby \nFormat: Double 8 Enduro
URL:https://bsdracing.ca/blog/event/lucky-dog-howl-o-ween-2015/
LOCATION:PORTLAND INTERNATIONAL RACEWAY\, 1940 N Victory Blvd\, Portland\, 97217\, United States
END:VEVENT
BEGIN:VEVENT
DTSTART;TZID=America/Edmonton:20151002T080000
DTEND;TZID=America/Edmonton:20151004T170000
DTSTAMP:20260423T154248
CREATED:20150816T033745Z
LAST-MODIFIED:20150816T033745Z
UID:1075-1443772800-1443978000@bsdracing.ca
SUMMARY:Chumpcar Portland
DESCRIPTION:PORTLAND INTERNATIONAL RACEWAY: 7+6 + 7 Sprint Races\, $800\n"ChampTruck World Series PacNor Grand Prix Sprint & Enduro COMBO"
URL:https://bsdracing.ca/blog/event/chumpcar-portland-2/
LOCATION:PORTLAND INTERNATIONAL RACEWAY\, 1940 N Victory Blvd\, Portland\, 97217\, United States
END:VEVENT
BEGIN:VEVENT
DTSTART;TZID=America/Edmonton:20150912T080000
DTEND;TZID=America/Edmonton:20150913T170000
DTSTAMP:20260423T154248
CREATED:20150816T033102Z
LAST-MODIFIED:20150816T033102Z
UID:1071-1442044800-1442163600@bsdracing.ca
SUMMARY:NASCC Race 5 2015
DESCRIPTION:Northern Alberta Sports Car Club\n\n\nSaturday\, Sep 12 — Sunday\, Sep 13\, 2015\n\n\nCastrol Raceway - Full Road Course\, Nisku\, AB
URL:https://bsdracing.ca/blog/event/nascc-race-5-2015/
LOCATION:Alberta
END:VEVENT
BEGIN:VEVENT
DTSTART;TZID=America/Edmonton:20150829T080000
DTEND;TZID=America/Edmonton:20150830T170000
DTSTAMP:20260423T154248
CREATED:20150816T033602Z
LAST-MODIFIED:20150816T033602Z
UID:1073-1440835200-1440954000@bsdracing.ca
SUMMARY:Chumpcar Las Vegas 2015
DESCRIPTION:LAS VEGAS MOTOR SPEEDWAY: 13-Hour\, $1000\n"The Unlucky 13 - A Roll of the Dice"
URL:https://bsdracing.ca/blog/event/chumpcar-las-vegas-2015/
LOCATION:LAS VEGAS MOTOR SPEEDWAY\,  7000 N Las Vegas Blvd\,  Las Vegas\, NV\, 89115\, United States
END:VEVENT
BEGIN:VEVENT
DTSTART;TZID=America/Edmonton:20150829T080000
DTEND;TZID=America/Edmonton:20150830T170000
DTSTAMP:20260423T154248
CREATED:20150816T032951Z
LAST-MODIFIED:20150816T032951Z
UID:1070-1440835200-1440954000@bsdracing.ca
SUMMARY:NASCC Race 4 2015
DESCRIPTION:Northern Alberta Sports Car Club\n\n\n\n\n\nSaturday\, Aug 29 — Sunday\, Aug 30\, 2015\nCastrol Raceway - Full Road Course\, Nisku\, AB
URL:https://bsdracing.ca/blog/event/nascc-race-4-2015/
LOCATION:Alberta
END:VEVENT
BEGIN:VEVENT
DTSTART;TZID=America/Edmonton:20150801T120000
DTEND;TZID=America/Edmonton:20150802T120000
DTSTAMP:20260423T154248
CREATED:20150816T033314Z
LAST-MODIFIED:20150816T033314Z
UID:1072-1438430400-1438516800@bsdracing.ca
SUMMARY:Chumpcar Canada 24 Castrol 2015
DESCRIPTION:CASTROL RACEWAY: 24 Hour\, $1200\n"Castrol 24 Hour Oil Slick"
URL:https://bsdracing.ca/blog/event/chumpcar-canada-24-castrol-2015/
LOCATION:Castrol Raceway\, Highway 19\, Nisku\, Alberta\, T5J2T2\, Canada
END:VEVENT
BEGIN:VEVENT
DTSTART;TZID=America/Edmonton:20141024T080000
DTEND;TZID=America/Edmonton:20141026T170000
DTSTAMP:20260423T154248
CREATED:20131106T005823Z
LAST-MODIFIED:20131125T210009Z
UID:301-1414137600-1414342800@bsdracing.ca
SUMMARY:ChumpCar Portland
DESCRIPTION:October 24-26: Portland International Raceway (6-hour\, 12-hour\, 6-hour) – Portland\, OR
URL:https://bsdracing.ca/blog/event/chumpcar-portland/
LOCATION:Alberta
END:VEVENT
BEGIN:VEVENT
DTSTART;TZID=America/Edmonton:20140913T080000
DTEND;TZID=America/Edmonton:20140914T170000
DTSTAMP:20260423T154248
CREATED:20131125T204827Z
LAST-MODIFIED:20131125T204827Z
UID:546-1410595200-1410714000@bsdracing.ca
SUMMARY:NASCC - RACE WEEKEND #5
DESCRIPTION:Sept 13 & 14 - RACE WEEKEND #5 - Shared Paddock with Drag Competitors
URL:https://bsdracing.ca/blog/event/nascc-race-weekend-5/
LOCATION:Alberta
END:VEVENT
BEGIN:VEVENT
DTSTART;TZID=America/Edmonton:20140912T080000
DTEND;TZID=America/Edmonton:20140914T170000
DTSTAMP:20260423T154248
CREATED:20131106T174235Z
LAST-MODIFIED:20131106T174235Z
UID:309-1410508800-1410714000@bsdracing.ca
SUMMARY:ChumpCar The 37
DESCRIPTION:HeartLand Park
URL:https://bsdracing.ca/blog/event/chumpcar-the-37/
LOCATION:Alberta
END:VEVENT
BEGIN:VEVENT
DTSTART;TZID=America/Edmonton:20140830T080000
DTEND;TZID=America/Edmonton:20140901T170000
DTSTAMP:20260423T154248
CREATED:20131106T173600Z
LAST-MODIFIED:20131125T205853Z
UID:306-1409385600-1409590800@bsdracing.ca
SUMMARY:ChumpCar Ridge
DESCRIPTION:30 Aug-1 Sep / The Ridge /  4+4+4+4+4+4
URL:https://bsdracing.ca/blog/event/chumpcar-ridge/
LOCATION:Alberta
END:VEVENT
BEGIN:VEVENT
DTSTART;TZID=America/Edmonton:20140823T080000
DTEND;TZID=America/Edmonton:20140824T170000
DTSTAMP:20260423T154248
CREATED:20131125T204744Z
LAST-MODIFIED:20131125T204744Z
UID:545-1408780800-1408899600@bsdracing.ca
SUMMARY:NASCC - RACE WEEKEND #4
DESCRIPTION:August 22 & 23 - RACE WEEKEND #4 - Full Paddock is available
URL:https://bsdracing.ca/blog/event/nascc-race-weekend-4/
LOCATION:Alberta
END:VEVENT
BEGIN:VEVENT
DTSTART;TZID=America/Edmonton:20140726T090000
DTEND;TZID=America/Edmonton:20140726T200000
DTSTAMP:20260423T154248
CREATED:20131111T231709Z
LAST-MODIFIED:20131125T170457Z
UID:311-1406365200-1406404800@bsdracing.ca
SUMMARY:The First Annual LEDUC 1000
DESCRIPTION:Update: 11/25/2013 \nChange of Date July 26\, 2014 \nUpdate: 11/13/2013 \nThe "L.A.K" Leduc Alberta 1000 has a confirmed Date!\nSaturday July 26 2014\n1000km\nPit party\, and bon fire after the checkers\nInterested teams should post team name and race car under this. \nUpdate: 11/2013 \nThe Longest race in the west on the longest day of the year...\nThe Northern Alberta Sport Car Club is proud to present in conjunction with “TBA” \n“The First annual LEDUC 1000” \nJune 21 2014 (subject to change)  \nThe challenge: This will be a 1000km endurance race on Castrol Raceway’s 2.7km road course\nThe race starts at 9am sharp\nThe race is over when the first car reaches the 370th lap AKA 1000km all laps count including FC yellow.\nThus no set time limit\, estimates of 9-11 hours for the winner\nNo min pit stop time do your stops as fast as you can!\nTires are open\nThis event is open to all closed wheel race cars from ITJ to GT1. These cars will run in 3-5 performance groups based on HP and Weight and historic Lap times. All classes will run together at the same time. Classes will be set by the NASCC officials\nAll standard WCMA racing rules apply\nTrophies and cash prizes to the top 3 in each group\nBBQ and social party after the race\nTeams can have 2-5 drivers\nPrice per team aprox. $750\nThis will be a hot pit event with Over the Wall stops. OTW crews must be in full driving gear\nFull sup regs soon\nFirst 60 teams secure a spot on the hot pits\nAll drivers must have a WCMA road racing licence there will be a school in May 2014 where this may be obtained.\nMove in will be Friday night! \nAll information provided is subject to change. \n 
URL:https://bsdracing.ca/blog/event/the-first-annual-leduc-1000/
LOCATION:Alberta
END:VEVENT
BEGIN:VEVENT
DTSTART;TZID=America/Edmonton:20140718T080000
DTEND;TZID=America/Edmonton:20140720T170000
DTSTAMP:20260423T154248
CREATED:20131106T173951Z
LAST-MODIFIED:20131106T174013Z
UID:308-1405670400-1405875600@bsdracing.ca
SUMMARY:World Challenge Series Toronto
DESCRIPTION:Honda Indy Toronto
URL:https://bsdracing.ca/blog/event/world-challenge-series-toronto/
LOCATION:Alberta
END:VEVENT
BEGIN:VEVENT
DTSTART;TZID=America/Edmonton:20140712T080000
DTEND;TZID=America/Edmonton:20140713T170000
DTSTAMP:20260423T154248
CREATED:20131125T204645Z
LAST-MODIFIED:20131125T204645Z
UID:544-1405152000-1405270800@bsdracing.ca
SUMMARY:NASCC - RACE WEEKEND #3
DESCRIPTION:July 12 & 13 - RACE WEEKEND #3 - Full Paddock is available
URL:https://bsdracing.ca/blog/event/nascc-race-weekend-3/
LOCATION:Alberta
END:VEVENT
BEGIN:VEVENT
DTSTART;TZID=America/Edmonton:20140614T080000
DTEND;TZID=America/Edmonton:20140615T170000
DTSTAMP:20260423T154248
CREATED:20131125T201415Z
LAST-MODIFIED:20131125T201415Z
UID:543-1402732800-1402851600@bsdracing.ca
SUMMARY:NASCC - RACE WEEKEND #2
DESCRIPTION:June 14 & 15 - RACE WEEKEND #2 - Shared Paddock with Drag Competitors
URL:https://bsdracing.ca/blog/event/nascc-race-weekend-2/
LOCATION:Alberta
END:VEVENT
BEGIN:VEVENT
DTSTART;TZID=America/Edmonton:20140524T080000
DTEND;TZID=America/Edmonton:20140525T170000
DTSTAMP:20260423T154248
CREATED:20131125T201324Z
LAST-MODIFIED:20131125T201324Z
UID:542-1400918400-1401037200@bsdracing.ca
SUMMARY:NASCC - RACE WEEKEND #1
DESCRIPTION:May 24 & 25 - RACE WEEKEND #1 - Shared Paddock with Drag Competitors
URL:https://bsdracing.ca/blog/event/nascc-race-weekend-1/
LOCATION:Alberta
END:VEVENT
BEGIN:VEVENT
DTSTART;TZID=America/Edmonton:20140503T080000
DTEND;TZID=America/Edmonton:20140504T170000
DTSTAMP:20260423T154248
CREATED:20131125T201238Z
LAST-MODIFIED:20131125T201245Z
UID:541-1399104000-1399222800@bsdracing.ca
SUMMARY:NASCC - Racing School
DESCRIPTION:May 3 & 4 - SCHOOL - Shared Paddock with Drag Competitors
URL:https://bsdracing.ca/blog/event/nascc-racing-school/
LOCATION:Alberta
END:VEVENT
BEGIN:VEVENT
DTSTART;TZID=America/Edmonton:20140412T080000
DTEND;TZID=America/Edmonton:20140413T170000
DTSTAMP:20260423T154248
CREATED:20140316T171217Z
LAST-MODIFIED:20140316T171217Z
UID:867-1397289600-1397408400@bsdracing.ca
SUMMARY:ProAutoSports - Bondurant
DESCRIPTION:ProAutoSports - Bondurant \n20000 S Maricopa Rd\, Chandler\, AZ 85226\, United States
URL:https://bsdracing.ca/blog/event/proautosports-bondurant/
LOCATION:Alberta
END:VEVENT
END:VCALENDAR